Workbook

Sheet BE NL - masterdata
A18: SINGLE CAB MY'26 4G | C18: VERSIE | D18: TRANSMISSIE | G18: CATALOGUSPRIJS EXCL. BTW | I18: CATALOGUSPRIJS INCL. BTW
C19: L MT | D19: 2x4 | G19: 33525 | I19: =+G19*1.21 -> 40565.25
C20: L AT | D20: 2x4 | G20: 34995 | I20: =+G20*1.21 -> 42343.95
C21: L MT | D21: 4x4 | G21: 36525 | I21: =+G21*1.21 -> 44195.25
C22: L AT | D22: 4x4 | G22: 37995 | I22: =+G22*1.21 -> 45973.95
A25: EXTENDED CAB MY'26 4G | C25: VERSIE | D25: TRANSMISSIE | G25: CATALOGUSPRIJS EXCL. BTW | I25: CATALOGUSPRIJS INCL. BTW
C26: LS AT | D26: 4x4 DIFFLOCK | G26: 41525 | I26: =+G26*1.21 -> 50245.25
C27: LSX AT | D27: 4x4 DIFFLOCK | G27: 43995 | H27: 46917.75 | I27: =+G27*1.21 -> 53233.95
C28: LSE AT | D28: 4x4 DIFFLOCK | G28: 44975 | I28: =+G28*1.21 -> 54419.75
A30: DOUBLE CAB MY '26 4G
C31: VERSIE | D31: TRANSMISSIE | G31: CATALOGUSPRIJS EXCL. BTW | I31: CATALOGUSPRIJS INCL. BTW
C32: L MT | D32: 4x4 | G32: 39995 | I32: =+G32*1.21 -> 48393.95
C33: L AT | D33: 4x4 | G33: 41525 | H33: 49337.75 | I33: =+G33*1.21 -> 50245.25
C34: LS AT | D34: 4x4 DIFFLOCK | G34: 42995 | I34: =+G34*1.21 -> 52023.95
C35: LSX AT | D35: 4x4 DIFFLOCK | G35: 45525 | H35: 52362.75 | I35: =+G35*1.21 -> 55085.25
C36: LSE AT | D36: 4x4 DIFFLOCK | G36: 46475 | H36: 54419.75 | I36: =+G36*1.21 -> 56234.75
A37: LSE BEV MY '26 4G
C38: VERSIE | D38: TRANSMISSIE | G38: CATALOGUSPRIJS EXCL. BTW | I38: CATALOGUSPRIJS INCL. BTW
C39: LSX AT | D39: 4x4 W/ DMS + 4G | G39: 69900 | I39: =+G39*1.21 -> 84579
C40: LSE AT | D40: 4x4 W/ DMS + 4G | G40: 73490 | I40: =+G40*1.21 -> 88922.9
A43: Inbegrepen in de packs:
A44: Kofferdeksel naar keuze + bedliner, beschermingsstrip op de achterklep, soft opening & closing kit, getinte achterruiten: 2 of 3 volgens pack
A51: PACKS (*)
A52: (*) EC: Extended Cab, DC: Double Cab | C52: VERSIE | E52: CODE | G52: CATALOGUSPRIJS EXCL. BTW | I52: CATALOGUSPRIJS INCL. BTW
A53: Extended Comfort Pack | E53: DC | F53: EC | G53: DC | H53: EC | I53: DC | J53: EC
A54: Hardtop | E54: - | F54: EC | G54: - | H54: 1000 | I54: - | J54: 1210
A55: Alu Cover | C55: Met vleugelramen | E55: HD | F55: - | G55: 3999 | H55: - | I55: 4838.79 | J55: -
A56: Roll Cover | E56: AD | F56: - | G56: 2799 | H56: - | I56: 3386.79 | J56: -
E57: RD | F57: - | G57: 2950 | H57: - | I57: 3569.5 | J57: -
A59: OPTIES
G60: CATALOGUSPRIJS EXCL.BTW | I60: CATALOGUSPRIJS INCL. BTW
A61: Metaalkleur (Mercury Silver, Biarritz Blue, Kinabalu Gray) | G61: 600 | I61: =ROUNDDOWN(+G61*1.21,2) -> 726
A62: Mica kleur (Dolomite White, Obsidian Gray, Onyx Black, Namibu Orange) | G62: 800 | I62: =+G62*1.21 -> 968
A63: Delivery Pack "Voorbereiding technische keuring, legale kit, tapijten" | G63: 165 | I63: =+G63*1.21 -> 199.65
A64: Trekhaak (enkel gratis op V-Cross) (communicatiemodule wagen & montage inbegrepen) | G64: 743.8 | I64: =+G64*1.21 -> 899.998
A65: Verlengde garantie D-MAX Diesel (5 jaar - 200.000 km max) | G65: 475 | I65: =+G65*1.21 -> 574.75
A76: * Indicatieve prijs (variabel uurtarief)
A77: Voor alle andere opties/accessoires, gelieve uw Isuzu verdeler te contacteren.

Sheet BE FR 
A18: SINGLE CAB MY'26 4G | C18: VERSION | D18: TRANSMISSION | F18: CATALOGUSPRIJS EXCL. BTW | G18: PRIX CATALOGUE HTVA | I18: PRIX CATALOGUE TVAC
C19: L MT | D19: 2x4 | G19: 33525 | I19: =+G19*1.21 -> 40565.25
C20: L AT | D20: 2x4 | G20: 34995 | I20: =+G20*1.21 -> 42343.95
C21: L MT | D21: 4x4 | G21: 36525 | I21: =+G21*1.21 -> 44195.25
C22: L AT | D22: 4x4 | G22: 37995 | I22: =+G22*1.21 -> 45973.95
A25: EXTENDED CAB MY'26 4G | C25: VERSION | D25: TRANSMISSION | F25: CATALOGUSPRIJS EXCL. BTW | G25: PRIX CATALOGUE HTVA | I25: PRIX CATALOGUE TVAC
C26: LS AT | D26: 4x4 DIFFLOCK | G26: 41525 | I26: =+G26*1.21 -> 50245.25
C27: LSX AT | D27: 4x4 DIFFLOCK | G27: 43995 | H27: 46917.75 | I27: =+G27*1.21 -> 53233.95
C28: LSE AT | D28: 4x4 DIFFLOCK | G28: 44975 | I28: =+G28*1.21 -> 54419.75
A30: DOUBLE CAB MY '26 4G
C31: VERSION | D31: TRANSMISSION | F31: CATALOGUSPRIJS EXCL. BTW | G31: PRIX CATALOGUE HTVA | I31: PRIX CATALOGUE TVAC
C32: L MT | D32: 4x4 | G32: 39995 | I32: =+G32*1.21 -> 48393.95
C33: L AT | D33: 4x4 | G33: 41525 | H33: 49337.75 | I33: =+G33*1.21 -> 50245.25
C34: LS AT | D34: 4x4 DIFFLOCK | G34: 42995 | I34: =+G34*1.21 -> 52023.95
C35: LSX AT | D35: 4x4 DIFFLOCK | G35: 45525 | H35: 52362.75 | I35: =+G35*1.21 -> 55085.25
C36: LSE AT | D36: 4x4 DIFFLOCK | G36: 46475 | H36: 54419.75 | I36: =+G36*1.21 -> 56234.75
A37: LSE BEV MY '26 4G
C38: VERSION | D38: TRANSMISSION | F38: CATALOGUSPRIJS EXCL. BTW | G38: PRIX CATALOGUE HTVA | I38: PRIX CATALOGUE TVAC
C39: LSX AT | D39: 4x4 W/DMS en 4G | G39: 69900 | I39: =+G39*1.21 -> 84579
C40: LSE AT | D40: 4x4 W/ DMS en 4G | G40: 73490 | I40: =+G40*1.21 -> 88922.9
A42: Inclus dans les packs :
A43: Couvre benne selon votre choix + bedliner, bande protectrice du hayon arrière, système d'ouverture hayon soft, vitres arrière teintés 2 ou 3x selon pack.
A49: PACKS (*) | C49: VERSION | E49: CODE | G49: PRIX CATALOGUE HTVA | I49: PRIX CATALOGUE TVAC
A50: (*) EC: Extended Cab, DC: Double Cab | E50: DC | F50: EC | G50: DC | H50: EC | I50: DC | J50: EC
A51: Extended Comfort Pack | E51: - | F51: EC | G51: ='BE NL - masterdata'!G54 -> - | H51: ='BE NL - masterdata'!H54 -> 1000 | I51: - | J51: ='BE NL - masterdata'!J54 -> 1210
A52: Hardtop | C52: Avec fenêtres papillon | E52: HD | F52: - | G52: ='BE NL - masterdata'!G55 -> 3999 | H52: - | I52: ='BE NL - masterdata'!I55 -> 4838.79 | J52: -
A53: Alu Cover | E53: AD | F53: - | G53: ='BE NL - masterdata'!G56 -> 2799 | H53: - | I53: ='BE NL - masterdata'!I56 -> 3386.79 | J53: -
A54: Roll Cover | E54: RD | F54: - | G54: ='BE NL - masterdata'!G57 -> 2950 | H54: - | I54: ='BE NL - masterdata'!I57 -> 3569.5 | J54: -
A57: OPTIONS | G57: PRIX CATALOGUE HTVA | I57: PRIX CATALOGUE TVAC
A58: Attache remorque (gratuit sur V-Cross)(module de communication & montage inclus) | G58: 743.8 | I58: =ROUNDDOWN(+G58*1.21,2) -> 899.99
A59: Couleur métallique (Mercury Silver, Biarritz Blue, Kinabalu Gray) | G59: 600 | I59: =+G59*1.21 -> 726
A60: Couleur mica (Dolomite White, Obsidian Gray, Onyx Black, Namibu Orange) | G60: 800 | I60: =+G60*1.21 -> 968
A61: Delivery Pack "Préparation pour passage CT, Kit légal, Tapis de sol" | G61: 165 | I61: =+G61*1.21 -> 199.65
A62: Garantie prolongé D-MAX diesel (5 ans - 200.000 kms max) | G62: ='BE NL - masterdata'!G65:H65 -> 475 | I62: =+G62*1.21 -> 574.75

Sheet LU
A18: SINGLE CAB MY'26 4G | C18: VERSION | D18: TRANSMISSION | F18: CATALOGUSPRIJS EXCL. BTW | G18: PRIX CATALOGUE HTVA | I18: PRIX CATALOGUE TVAC
C19: L MT | D19: 2x4 | G19: 33525 | I19: =+G19*1.17 -> 39224.25
C20: L AT | D20: 2x4 | G20: 34995 | I20: =+G20*1.17 -> 40944.15
C21: L MT | D21: 4x4 | G21: 36525 | I21: =+G21*1.17 -> 42734.25
C22: L AT | D22: 4x4 | G22: 37995 | I22: =+G22*1.17 -> 44454.15
A25: EXTENDED CAB MY'26 4G | C25: VERSION | D25: TRANSMISSION | F25: CATALOGUSPRIJS EXCL. BTW | G25: PRIX CATALOGUE HTVA | I25: PRIX CATALOGUE TVAC
C26: LS AT | D26: 4x4 DIFFLOCK | G26: 41525 | I26: =+G26*1.17 -> 48584.25
C27: LSX AT | D27: 4x4 DIFFLOCK | G27: 43995 | H27: 46917.75 | I27: =+G27*1.17 -> 51474.15
C28: LSE AT | D28: 4x4 DIFFLOCK | G28: 44975 | I28: =+G28*1.17 -> 52620.75
A30: DOUBLE CAB MY '26 4G
C31: VERSION | D31: TRANSMISSION | F31: CATALOGUSPRIJS EXCL. BTW | G31: PRIX CATALOGUE HTVA | I31: PRIX CATALOGUE TVAC
C32: L MT | D32: 4x4 | G32: 39995 | I32: =+G32*1.17 -> 46794.15
C33: L AT | D33: 4x4 | G33: 41525 | H33: 49337.75 | I33: =+G33*1.17 -> 48584.25
C34: LS AT | D34: 4x4 DIFFLOCK | G34: 42995 | I34: =+G34*1.17 -> 50304.15
C35: LSX AT | D35: 4x4 DIFFLOCK | G35: 45525 | H35: 52362.75 | I35: =+G35*1.17 -> 53264.25
C36: LSE AT | D36: 4x4 DIFFLOCK | G36: 46475 | H36: 54419.75 | I36: =+G36*1.17 -> 54375.75
A37: LSE BEV MY '26 4G
C38: VERSION | D38: TRANSMISSION | F38: CATALOGUSPRIJS EXCL. BTW | G38: PRIX CATALOGUE HTVA | I38: PRIX CATALOGUE TVAC
C39: LSX AT | D39: 4x4 W/ DMS + 4G | G39: 69900 | I39: =+G39*1.17 -> 81783
C40: LSE AT | D40: 4x4 W/ DMS +4G | G40: 73490 | I40: =+G40*1.17 -> 85983.3
A42: Inclus dans les packs :
A43: Couvre benne selon votre choix + bedliner, bande protectrice du hayon arrière, système d'ouverture hayon soft, vitres arrière teintés 2 ou 3x selon pack.
A49: PACKS (*) | C49: VERSION | E49: CODE | G49: PRIX CATALOGUE HTVA | I49: PRIX CATALOGUE TVAC
A50: (*) EC: Extended Cab, DC: Double Cab | E50: DC | F50: EC | G50: DC | H50: EC | I50: DC | J50: EC
A51: Extended Comfort Pack | E51: - | F51: EC | G51: - | H51: 1000 | I51: - | J51: =H51*1.17 -> 1170
A52: Hardtop | C52: Avec fenêtres papillon | E52: HD | F52: - | G52: 3999 | H52: - | I52: =G52*1.17 -> 4678.83 | J52: -
A53: Alu Cover | E53: AD | F53: - | G53: 2799 | H53: - | I53: =G53*1.17 -> 3274.83 | J53: -
A54: Roll Cover | E54: RD | F54: - | G54: 2950 | H54: - | I54: =G54*1.17 -> 3451.5 | J54: -
A57: OPTIONS | G57: PRIX CATALOGUE HTVA | I57: PRIX CATALOGUE TVAC
A58: Attache remorque (gratuit sur V-Cross) module de communication & montage inclus | G58: 743.8 | I58: =ROUNDDOWN(+G58*1.17,2) -> 870.24
A59: Couleur métallique (Mercury Silver, Biarritz Blue, Kinabalu Gray) | G59: 600 | I59: =ROUNDDOWN(+G59*1.17,2) -> 702
A60: Couleur mica (Dolomite White, Obsidian Gray, Onyx Black, Namibu Orange) | G60: 800 | I60: =ROUNDDOWN(+G60*1.17,2) -> 936
A61: Delivery Pack "Préparation pour passage CT, Kit légal, Tapis de sol" | G61: 165 | I61: =ROUNDDOWN(+G61*1.17,2) -> 193.05
A62: Garantie prolongé D-MAX Diesel (5 ans - 200.000 kms max) | G62: ='BE NL - masterdata'!G65:H65 -> 475 | I62: =ROUNDDOWN(+G62*1.17,2) -> 555.75
